Package: MAI Version: 1.8.0 Command: rm -rf MAI.buildbin-libdir && mkdir MAI.buildbin-libdir && /Users/biocbuild/BBS/utils/build-universal.sh MAI_1.8.0.tar.gz /Library/Frameworks/R.framework/Resources/bin/R MAI.buildbin-libdir StartedAt: 2024-04-16 12:06:56 -0400 (Tue, 16 Apr 2024) EndedAt: 2024-04-16 12:08:17 -0400 (Tue, 16 Apr 2024) EllapsedTime: 80.4 seconds RetCode: 0 Status: OK PackageFile: MAI_1.8.0.tgz PackageFileSize: 499.1 KiB