Package: MAI Version: 1.8.0 Command: /Library/Frameworks/R.framework/Resources/bin/R CMD build --keep-empty-dirs --no-resave-data MAI StartedAt: 2024-03-03 17:14:22 -0500 (Sun, 03 Mar 2024) EndedAt: 2024-03-03 17:20:02 -0500 (Sun, 03 Mar 2024) EllapsedTime: 339.5 seconds RetCode: 0 Status: OK PackageFile: MAI_1.8.0.tar.gz PackageFileSize: 452.2 KiB