Package: MAI Version: 1.8.0 Command: /home/biocbuild/R/R-4.3.1/bin/R CMD INSTALL MAI StartedAt: 2023-11-01 20:51:48 -0000 (Wed, 01 Nov 2023) EndedAt: 2023-11-01 20:52:26 -0000 (Wed, 01 Nov 2023) EllapsedTime: 38.6 seconds RetCode: 0 Status: OK