Package: MAGeCKFlute Version: 2.6.0 Command: /Library/Frameworks/R.framework/Resources/bin/R CMD build --keep-empty-dirs --no-resave-data MAGeCKFlute StartedAt: 2024-04-15 19:43:15 -0400 (Mon, 15 Apr 2024) EndedAt: 2024-04-15 19:50:24 -0400 (Mon, 15 Apr 2024) EllapsedTime: 429.0 seconds RetCode: 0 Status: OK PackageFile: MAGeCKFlute_2.6.0.tar.gz PackageFileSize: 20.4 MiB