Package: MAGeCKFlute Version: 2.6.0 Command: rm -rf MAGeCKFlute.buildbin-libdir && mkdir MAGeCKFlute.buildbin-libdir && /Users/biocbuild/BBS/utils/build-universal.sh MAGeCKFlute_2.6.0.tar.gz /Library/Frameworks/R.framework/Resources/bin/R MAGeCKFlute.buildbin-libdir StartedAt: 2024-04-16 12:06:43 -0400 (Tue, 16 Apr 2024) EndedAt: 2024-04-16 12:08:40 -0400 (Tue, 16 Apr 2024) EllapsedTime: 116.8 seconds RetCode: 0 Status: OK PackageFile: MAGeCKFlute_2.6.0.tgz PackageFileSize: 20.69 MiB