Package: MAGAR Version: 1.10.0 Command: /home/biocbuild/bbs-3.18-bioc/R/bin/R CMD check --install=check:MAGAR.install-out.txt --library=/home/biocbuild/bbs-3.18-bioc/R/site-library --timings MAGAR_1.10.0.tar.gz StartedAt: 2024-04-16 00:25:01 -0400 (Tue, 16 Apr 2024) EndedAt: 2024-04-16 00:34:09 -0400 (Tue, 16 Apr 2024) EllapsedTime: 548.1 seconds RetCode: 0 Status: OK CheckDir: MAGAR.Rcheck Warnings: 0