Package: MADSEQ Version: 1.28.0 Command: /Library/Frameworks/R.framework/Resources/bin/R CMD build --keep-empty-dirs --no-resave-data MADSEQ StartedAt: 2024-03-03 17:14:03 -0500 (Sun, 03 Mar 2024) EndedAt: 2024-03-03 17:15:37 -0500 (Sun, 03 Mar 2024) EllapsedTime: 93.6 seconds RetCode: 0 Status: OK PackageFile: MADSEQ_1.28.0.tar.gz PackageFileSize: 1.984 MiB