Package: MADSEQ Version: 1.28.0 Command: rm -rf MADSEQ.buildbin-libdir && mkdir MADSEQ.buildbin-libdir && /Users/biocbuild/BBS/utils/build-universal.sh MADSEQ_1.28.0.tar.gz /Library/Frameworks/R.framework/Resources/bin/R MADSEQ.buildbin-libdir StartedAt: 2024-03-04 00:48:28 -0500 (Mon, 04 Mar 2024) EndedAt: 2024-03-04 00:49:38 -0500 (Mon, 04 Mar 2024) EllapsedTime: 70.3 seconds RetCode: 0 Status: OK PackageFile: MADSEQ_1.28.0.tgz PackageFileSize: 2.368 MiB