Package: MACSQuantifyR Version: 1.16.0 Command: /Library/Frameworks/R.framework/Resources/bin/R CMD INSTALL MACSQuantifyR StartedAt: 2024-03-03 15:27:11 -0500 (Sun, 03 Mar 2024) EndedAt: 2024-03-03 15:27:20 -0500 (Sun, 03 Mar 2024) EllapsedTime: 9.3 seconds RetCode: 0 Status: OK