Package: M3Drop Version: 1.28.8 Command: /home/biocbuild/bbs-3.18-bioc/R/bin/R CMD INSTALL M3Drop StartedAt: 2024-04-15 15:43:53 -0400 (Mon, 15 Apr 2024) EndedAt: 2024-04-15 15:44:08 -0400 (Mon, 15 Apr 2024) EllapsedTime: 15.6 seconds RetCode: 0 Status: OK