Package: M3Drop Version: 1.28.8 Command: rm -rf M3Drop.buildbin-libdir && mkdir M3Drop.buildbin-libdir && /Users/biocbuild/BBS/utils/build-universal.sh M3Drop_1.28.8.tar.gz /Library/Frameworks/R.framework/Resources/bin/R M3Drop.buildbin-libdir StartedAt: 2024-04-16 12:06:11 -0400 (Tue, 16 Apr 2024) EndedAt: 2024-04-16 12:07:03 -0400 (Tue, 16 Apr 2024) EllapsedTime: 51.5 seconds RetCode: 0 Status: OK PackageFile: M3Drop_1.28.8.tgz PackageFileSize: 12.5 MiB