Package: LowMACA Version: 1.31.0 Command: F:\biocbuild\bbs-3.18-bioc\R\bin\R.exe CMD check --no-multiarch --install=check:LowMACA.install-out.txt --library=F:\biocbuild\bbs-3.18-bioc\R\library --no-vignettes --timings LowMACA_1.31.0.tar.gz StartedAt: 2023-07-01 02:34:23 -0400 (Sat, 01 Jul 2023) EndedAt: 2023-07-01 02:46:45 -0400 (Sat, 01 Jul 2023) EllapsedTime: 742.3 seconds RetCode: 1 Status: ERROR CheckDir: LowMACA.Rcheck Warnings: NA