Package: LowMACA Version: 1.32.0 Command: chmod a+r LowMACA -R && F:\biocbuild\bbs-3.18-bioc\R\bin\R.exe CMD build --keep-empty-dirs --no-resave-data LowMACA StartedAt: 2024-04-15 19:17:44 -0400 (Mon, 15 Apr 2024) EndedAt: 2024-04-15 19:19:21 -0400 (Mon, 15 Apr 2024) EllapsedTime: 97.5 seconds RetCode: 1 Status: ERROR PackageFile: None PackageFileSize: NA