Package: LowMACA Version: 1.31.0 Command: rm -rf LowMACA.buildbin-libdir && mkdir LowMACA.buildbin-libdir && F:\biocbuild\bbs-3.18-bioc\R\bin\R.exe CMD INSTALL --build --library=LowMACA.buildbin-libdir LowMACA_1.31.0.tar.gz StartedAt: 2023-07-01 07:40:37 -0400 (Sat, 01 Jul 2023) EndedAt: 2023-07-01 07:41:53 -0400 (Sat, 01 Jul 2023) EllapsedTime: 76.7 seconds RetCode: 0 Status: OK PackageFile: LowMACA_1.31.0.zip PackageFileSize: 611.6 KiB