Package: LiquidAssociation Version: 1.56.0 Command: rm -rf LiquidAssociation.buildbin-libdir && mkdir LiquidAssociation.buildbin-libdir && F:\biocbuild\bbs-3.18-bioc\R\bin\R.exe CMD INSTALL --build --library=LiquidAssociation.buildbin-libdir LiquidAssociation_1.56.0.tar.gz StartedAt: 2024-04-16 07:12:41 -0400 (Tue, 16 Apr 2024) EndedAt: 2024-04-16 07:13:18 -0400 (Tue, 16 Apr 2024) EllapsedTime: 36.3 seconds RetCode: 0 Status: OK PackageFile: LiquidAssociation_1.56.0.zip PackageFileSize: 403 KiB