Package: LiquidAssociation Version: 1.56.0 Command: /Library/Frameworks/R.framework/Resources/bin/R CMD check --install=check:LiquidAssociation.install-out.txt --library=/Library/Frameworks/R.framework/Resources/library --no-vignettes --timings LiquidAssociation_1.56.0.tar.gz StartedAt: 2024-04-16 04:39:18 -0400 (Tue, 16 Apr 2024) EndedAt: 2024-04-16 04:42:57 -0400 (Tue, 16 Apr 2024) EllapsedTime: 219.1 seconds RetCode: 0 Status: OK CheckDir: LiquidAssociation.Rcheck Warnings: 0