Package: LiquidAssociation Version: 1.56.0 Command: rm -rf LiquidAssociation.buildbin-libdir && mkdir LiquidAssociation.buildbin-libdir && /Users/biocbuild/BBS/utils/build-universal.sh LiquidAssociation_1.56.0.tar.gz /Library/Frameworks/R.framework/Resources/bin/R LiquidAssociation.buildbin-libdir StartedAt: 2024-04-16 12:05:23 -0400 (Tue, 16 Apr 2024) EndedAt: 2024-04-16 12:06:11 -0400 (Tue, 16 Apr 2024) EllapsedTime: 47.7 seconds RetCode: 0 Status: OK PackageFile: LiquidAssociation_1.56.0.tgz PackageFileSize: 509.3 KiB