Package: Linnorm Version: 2.26.0 Command: rm -rf Linnorm.buildbin-libdir && mkdir Linnorm.buildbin-libdir && F:\biocbuild\bbs-3.18-bioc\R\bin\R.exe CMD INSTALL --build --library=Linnorm.buildbin-libdir Linnorm_2.26.0.tar.gz StartedAt: 2024-04-16 07:12:34 -0400 (Tue, 16 Apr 2024) EndedAt: 2024-04-16 07:13:22 -0400 (Tue, 16 Apr 2024) EllapsedTime: 48.1 seconds RetCode: 0 Status: OK PackageFile: Linnorm_2.26.0.zip PackageFileSize: 4.635 MiB