Package: Linnorm Version: 2.26.0 Command: /Library/Frameworks/R.framework/Resources/bin/R CMD build --keep-empty-dirs --no-resave-data Linnorm StartedAt: 2024-03-03 17:12:28 -0500 (Sun, 03 Mar 2024) EndedAt: 2024-03-03 17:17:05 -0500 (Sun, 03 Mar 2024) EllapsedTime: 277.0 seconds RetCode: 0 Status: OK PackageFile: Linnorm_2.26.0.tar.gz PackageFileSize: 4.108 MiB