Package: Linnorm Version: 2.26.0 Command: rm -rf Linnorm.buildbin-libdir && mkdir Linnorm.buildbin-libdir && /Users/biocbuild/BBS/utils/build-universal.sh Linnorm_2.26.0.tar.gz /Library/Frameworks/R.framework/Resources/bin/R Linnorm.buildbin-libdir StartedAt: 2024-03-04 00:47:58 -0500 (Mon, 04 Mar 2024) EndedAt: 2024-03-04 00:48:34 -0500 (Mon, 04 Mar 2024) EllapsedTime: 35.3 seconds RetCode: 0 Status: OK PackageFile: Linnorm_2.26.0.tgz PackageFileSize: 4.315 MiB