Package: Linnorm Version: 2.26.0 Command: /home/biocbuild/R/R-4.3.1/bin/R CMD INSTALL Linnorm StartedAt: 2023-11-01 20:12:39 -0000 (Wed, 01 Nov 2023) EndedAt: 2023-11-01 20:13:14 -0000 (Wed, 01 Nov 2023) EllapsedTime: 35.4 seconds RetCode: 0 Status: OK