Package: Linnorm Version: 2.26.0 Command: /home/biocbuild/R/R-4.3.1/bin/R CMD build --keep-empty-dirs --no-resave-data Linnorm StartedAt: 2023-11-02 02:40:59 -0000 (Thu, 02 Nov 2023) EndedAt: 2023-11-02 02:46:31 -0000 (Thu, 02 Nov 2023) EllapsedTime: 332.4 seconds RetCode: 0 Status: OK PackageFile: Linnorm_2.26.0.tar.gz PackageFileSize: 4.077 MiB