Package: LineagePulse Version: 1.21.0 Command: /Library/Frameworks/R.framework/Resources/bin/R CMD check --install=check:LineagePulse.install-out.txt --library=/Library/Frameworks/R.framework/Resources/library --no-vignettes --timings LineagePulse_1.21.0.tar.gz StartedAt: 2023-07-07 21:24:15 -0400 (Fri, 07 Jul 2023) EndedAt: 2023-07-07 21:33:10 -0400 (Fri, 07 Jul 2023) EllapsedTime: 535.1 seconds RetCode: 0 Status: WARNINGS CheckDir: LineagePulse.Rcheck Warnings: 1