############################################################################## ############################################################################## ### ### Running command: ### ### /Library/Frameworks/R.framework/Resources/bin/R CMD build --keep-empty-dirs --no-resave-data LineagePulse ### ############################################################################## ############################################################################## * checking for file ‘LineagePulse/DESCRIPTION’ ... OK * preparing ‘LineagePulse’: * checking DESCRIPTION meta-information ... OK * installing the package to build vignettes ----------------------------------- * installing *source* package ‘LineagePulse’ ... ** using staged installation ** R Error in .install_package_code_files(".", instdir) : files in '/private/tmp/RtmpGqLwb8/Rbuild1218aff352f1/LineagePulse/R' missing from 'Collate' field: zzz.R ERROR: unable to collate and parse R files for package ‘LineagePulse’ * removing ‘/private/tmp/RtmpGqLwb8/Rinst1218a2fca5465/LineagePulse’ ----------------------------------- ERROR: package installation failed