Package: LRBaseDbi Version: 2.12.1 Command: rm -rf LRBaseDbi.buildbin-libdir && mkdir LRBaseDbi.buildbin-libdir && F:\biocbuild\bbs-3.18-bioc\R\bin\R.exe CMD INSTALL --build --library=LRBaseDbi.buildbin-libdir LRBaseDbi_2.12.1.tar.gz StartedAt: 2024-04-16 07:13:06 -0400 (Tue, 16 Apr 2024) EndedAt: 2024-04-16 07:13:27 -0400 (Tue, 16 Apr 2024) EllapsedTime: 21.4 seconds RetCode: 0 Status: OK PackageFile: LRBaseDbi_2.12.1.zip PackageFileSize: 562.1 KiB