Package: LRBaseDbi Version: 2.12.1 Command: /home/biocbuild/bbs-3.18-bioc/R/bin/R CMD build --keep-empty-dirs --no-resave-data LRBaseDbi StartedAt: 2024-04-15 17:44:19 -0400 (Mon, 15 Apr 2024) EndedAt: 2024-04-15 17:44:45 -0400 (Mon, 15 Apr 2024) EllapsedTime: 25.4 seconds RetCode: 0 Status: OK PackageFile: LRBaseDbi_2.12.1.tar.gz PackageFileSize: 146.4 KiB