Package: LRBaseDbi Version: 2.12.1 Command: /Library/Frameworks/R.framework/Resources/bin/R CMD check --install=check:LRBaseDbi.install-out.txt --library=/Library/Frameworks/R.framework/Resources/library --no-vignettes --timings LRBaseDbi_2.12.1.tar.gz StartedAt: 2024-04-16 04:42:15 -0400 (Tue, 16 Apr 2024) EndedAt: 2024-04-16 04:46:02 -0400 (Tue, 16 Apr 2024) EllapsedTime: 227.7 seconds RetCode: 0 Status: OK CheckDir: LRBaseDbi.Rcheck Warnings: 0