Package: LRBaseDbi Version: 2.12.0 Command: /home/biocbuild/R/R-4.3.1/bin/R CMD check --install=check:LRBaseDbi.install-out.txt --library=/home/biocbuild/R/R-4.3.1/site-library --no-vignettes --timings LRBaseDbi_2.12.0.tar.gz StartedAt: 2023-11-02 11:45:06 -0000 (Thu, 02 Nov 2023) EndedAt: 2023-11-02 11:47:05 -0000 (Thu, 02 Nov 2023) EllapsedTime: 119.1 seconds RetCode: 0 Status: OK CheckDir: LRBaseDbi.Rcheck Warnings: 0