Package: LPEadj Version: 1.62.0 Command: /home/biocbuild/R/R-4.3.1/bin/R CMD check --install=check:LPEadj.install-out.txt --library=/home/biocbuild/R/R-4.3.1/site-library --no-vignettes --timings LPEadj_1.62.0.tar.gz StartedAt: 2023-11-02 11:45:02 -0000 (Thu, 02 Nov 2023) EndedAt: 2023-11-02 11:45:21 -0000 (Thu, 02 Nov 2023) EllapsedTime: 19.1 seconds RetCode: 0 Status: WARNINGS CheckDir: LPEadj.Rcheck Warnings: 1