Package: LPE Version: 1.76.0 Command: /Library/Frameworks/R.framework/Resources/bin/R CMD build --keep-empty-dirs --no-resave-data LPE StartedAt: 2024-03-03 17:13:17 -0500 (Sun, 03 Mar 2024) EndedAt: 2024-03-03 17:13:31 -0500 (Sun, 03 Mar 2024) EllapsedTime: 13.7 seconds RetCode: 0 Status: OK PackageFile: LPE_1.76.0.tar.gz PackageFileSize: 435.8 KiB