Package: LPE Version: 1.76.0 Command: /home/biocbuild/R/R-4.3.1/bin/R CMD build --keep-empty-dirs --no-resave-data LPE StartedAt: 2023-11-02 02:44:29 -0000 (Thu, 02 Nov 2023) EndedAt: 2023-11-02 02:44:36 -0000 (Thu, 02 Nov 2023) EllapsedTime: 7.0 seconds RetCode: 0 Status: OK PackageFile: LPE_1.76.0.tar.gz PackageFileSize: 429.9 KiB