Package: LOLA Version: 1.32.0 Command: /Library/Frameworks/R.framework/Resources/bin/R CMD check --install=check:LOLA.install-out.txt --library=/Library/Frameworks/R.framework/Resources/library --no-vignettes --timings LOLA_1.32.0.tar.gz StartedAt: 2024-04-16 04:40:58 -0400 (Tue, 16 Apr 2024) EndedAt: 2024-04-16 04:44:49 -0400 (Tue, 16 Apr 2024) EllapsedTime: 230.7 seconds RetCode: 0 Status: OK CheckDir: LOLA.Rcheck Warnings: 0