Package: LOLA Version: 1.32.0 Command: /home/biocbuild/R/R-4.3.1/bin/R CMD build --keep-empty-dirs --no-resave-data LOLA StartedAt: 2023-11-02 02:44:04 -0000 (Thu, 02 Nov 2023) EndedAt: 2023-11-02 02:44:29 -0000 (Thu, 02 Nov 2023) EllapsedTime: 25.0 seconds RetCode: 0 Status: OK PackageFile: LOLA_1.32.0.tar.gz PackageFileSize: 1.18 MiB