Package: LEA Version: 3.14.0 Command: rm -rf LEA.buildbin-libdir && mkdir LEA.buildbin-libdir && F:\biocbuild\bbs-3.18-bioc\R\bin\R.exe CMD INSTALL --build --library=LEA.buildbin-libdir LEA_3.14.0.tar.gz StartedAt: 2024-04-16 07:12:16 -0400 (Tue, 16 Apr 2024) EndedAt: 2024-04-16 07:13:07 -0400 (Tue, 16 Apr 2024) EllapsedTime: 51.2 seconds RetCode: 0 Status: OK PackageFile: LEA_3.14.0.zip PackageFileSize: 952.3 KiB