Package: LEA Version: 3.14.0 Command: /Library/Frameworks/R.framework/Resources/bin/R CMD check --install=check:LEA.install-out.txt --library=/Library/Frameworks/R.framework/Resources/library --no-vignettes --timings LEA_3.14.0.tar.gz StartedAt: 2024-03-03 21:26:59 -0500 (Sun, 03 Mar 2024) EndedAt: 2024-03-03 21:29:40 -0500 (Sun, 03 Mar 2024) EllapsedTime: 161.4 seconds RetCode: 0 Status: OK CheckDir: LEA.Rcheck Warnings: 0