Package: LEA Version: 3.14.0 Command: /home/biocbuild/R/R-4.3.1/bin/R CMD build --keep-empty-dirs --no-resave-data LEA StartedAt: 2023-11-02 02:37:55 -0000 (Thu, 02 Nov 2023) EndedAt: 2023-11-02 02:39:53 -0000 (Thu, 02 Nov 2023) EllapsedTime: 117.1 seconds RetCode: 0 Status: OK PackageFile: LEA_3.14.0.tar.gz PackageFileSize: 732.2 KiB