Package: LACE Version: 2.6.1 Command: /home/biocbuild/bbs-3.18-bioc/R/bin/R CMD build --keep-empty-dirs --no-resave-data LACE StartedAt: 2024-04-15 17:42:26 -0400 (Mon, 15 Apr 2024) EndedAt: 2024-04-15 17:43:16 -0400 (Mon, 15 Apr 2024) EllapsedTime: 50.3 seconds RetCode: 0 Status: OK PackageFile: LACE_2.6.1.tar.gz PackageFileSize: 4.057 MiB