Package: LACE Version: 2.6.1 Command: rm -rf LACE.buildbin-libdir && mkdir LACE.buildbin-libdir && /Users/biocbuild/BBS/utils/build-universal.sh LACE_2.6.1.tar.gz /Library/Frameworks/R.framework/Resources/bin/R LACE.buildbin-libdir StartedAt: 2024-04-16 12:04:24 -0400 (Tue, 16 Apr 2024) EndedAt: 2024-04-16 12:06:07 -0400 (Tue, 16 Apr 2024) EllapsedTime: 103.2 seconds RetCode: 0 Status: OK PackageFile: LACE_2.6.1.tgz PackageFileSize: 3.044 MiB