Package: LACE Version: 2.6.0 Command: /home/biocbuild/R/R-4.3.1/bin/R CMD build --keep-empty-dirs --no-resave-data LACE StartedAt: 2023-11-02 02:36:47 -0000 (Thu, 02 Nov 2023) EndedAt: 2023-11-02 02:37:55 -0000 (Thu, 02 Nov 2023) EllapsedTime: 68.1 seconds RetCode: 0 Status: OK PackageFile: LACE_2.6.0.tar.gz PackageFileSize: 4.239 MiB