Package: KnowSeq Version: 1.16.0 Command: /Library/Frameworks/R.framework/Resources/bin/R CMD INSTALL KnowSeq StartedAt: 2024-03-03 15:36:48 -0500 (Sun, 03 Mar 2024) EndedAt: 2024-03-03 15:37:32 -0500 (Sun, 03 Mar 2024) EllapsedTime: 43.7 seconds RetCode: 0 Status: OK