Package: KnowSeq Version: 1.16.0 Command: /Library/Frameworks/R.framework/Resources/bin/R CMD build --keep-empty-dirs --no-resave-data KnowSeq StartedAt: 2024-03-03 17:11:33 -0500 (Sun, 03 Mar 2024) EndedAt: 2024-03-03 17:14:22 -0500 (Sun, 03 Mar 2024) EllapsedTime: 169.0 seconds RetCode: 0 Status: OK PackageFile: KnowSeq_1.16.0.tar.gz PackageFileSize: 8.15 MiB