Package: KCsmart Version: 2.60.0 Command: F:\biocbuild\bbs-3.18-bioc\R\bin\R.exe CMD INSTALL KCsmart StartedAt: 2024-04-15 16:28:56 -0400 (Mon, 15 Apr 2024) EndedAt: 2024-04-15 16:29:12 -0400 (Mon, 15 Apr 2024) EllapsedTime: 16.1 seconds RetCode: 0 Status: OK