Package: KCsmart Version: 2.60.0 Command: F:\biocbuild\bbs-3.18-bioc\R\bin\R.exe CMD check --no-multiarch --install=check:KCsmart.install-out.txt --library=F:\biocbuild\bbs-3.18-bioc\R\library --no-vignettes --timings KCsmart_2.60.0.tar.gz StartedAt: 2024-04-16 02:02:25 -0400 (Tue, 16 Apr 2024) EndedAt: 2024-04-16 02:04:10 -0400 (Tue, 16 Apr 2024) EllapsedTime: 105.2 seconds RetCode: 0 Status: WARNINGS CheckDir: KCsmart.Rcheck Warnings: 1