Package: KCsmart Version: 2.60.0 Command: chmod a+r KCsmart -R && F:\biocbuild\bbs-3.18-bioc\R\bin\R.exe CMD build --keep-empty-dirs --no-resave-data KCsmart StartedAt: 2024-04-15 19:14:25 -0400 (Mon, 15 Apr 2024) EndedAt: 2024-04-15 19:14:59 -0400 (Mon, 15 Apr 2024) EllapsedTime: 34.6 seconds RetCode: 0 Status: OK PackageFile: KCsmart_2.60.0.tar.gz PackageFileSize: 1.718 MiB