Package: KCsmart Version: 2.60.0 Command: rm -rf KCsmart.buildbin-libdir && mkdir KCsmart.buildbin-libdir && F:\biocbuild\bbs-3.18-bioc\R\bin\R.exe CMD INSTALL --build --library=KCsmart.buildbin-libdir KCsmart_2.60.0.tar.gz StartedAt: 2024-04-16 07:11:53 -0400 (Tue, 16 Apr 2024) EndedAt: 2024-04-16 07:12:10 -0400 (Tue, 16 Apr 2024) EllapsedTime: 17.3 seconds RetCode: 0 Status: OK PackageFile: KCsmart_2.60.0.zip PackageFileSize: 2.1 MiB