Package: KCsmart Version: 2.60.0 Command: /Library/Frameworks/R.framework/Resources/bin/R CMD check --install=check:KCsmart.install-out.txt --library=/Library/Frameworks/R.framework/Resources/library --no-vignettes --timings KCsmart_2.60.0.tar.gz StartedAt: 2024-03-03 21:24:52 -0500 (Sun, 03 Mar 2024) EndedAt: 2024-03-03 21:26:42 -0500 (Sun, 03 Mar 2024) EllapsedTime: 109.7 seconds RetCode: 0 Status: WARNINGS CheckDir: KCsmart.Rcheck Warnings: 1