Package: KCsmart Version: 2.60.0 Command: /Library/Frameworks/R.framework/Resources/bin/R CMD build --keep-empty-dirs --no-resave-data KCsmart StartedAt: 2024-03-03 17:10:58 -0500 (Sun, 03 Mar 2024) EndedAt: 2024-03-03 17:11:33 -0500 (Sun, 03 Mar 2024) EllapsedTime: 35.2 seconds RetCode: 0 Status: OK PackageFile: KCsmart_2.60.0.tar.gz PackageFileSize: 1.813 MiB