Package: KCsmart Version: 2.60.0 Command: rm -rf KCsmart.buildbin-libdir && mkdir KCsmart.buildbin-libdir && /Users/biocbuild/BBS/utils/build-universal.sh KCsmart_2.60.0.tar.gz /Library/Frameworks/R.framework/Resources/bin/R KCsmart.buildbin-libdir StartedAt: 2024-03-04 00:47:33 -0500 (Mon, 04 Mar 2024) EndedAt: 2024-03-04 00:47:50 -0500 (Mon, 04 Mar 2024) EllapsedTime: 17.1 seconds RetCode: 0 Status: OK PackageFile: KCsmart_2.60.0.tgz PackageFileSize: 2.192 MiB