Package: KCsmart Version: 2.60.0 Command: /home/biocbuild/R/R-4.3.1/bin/R CMD build --keep-empty-dirs --no-resave-data KCsmart StartedAt: 2023-11-02 02:35:17 -0000 (Thu, 02 Nov 2023) EndedAt: 2023-11-02 02:35:50 -0000 (Thu, 02 Nov 2023) EllapsedTime: 33.0 seconds RetCode: 0 Status: OK PackageFile: KCsmart_2.60.0.tar.gz PackageFileSize: 1.805 MiB