Package: KBoost Version: 1.10.0 Command: rm -rf KBoost.buildbin-libdir && mkdir KBoost.buildbin-libdir && F:\biocbuild\bbs-3.18-bioc\R\bin\R.exe CMD INSTALL --build --library=KBoost.buildbin-libdir KBoost_1.10.0.tar.gz StartedAt: 2024-04-16 07:11:52 -0400 (Tue, 16 Apr 2024) EndedAt: 2024-04-16 07:12:05 -0400 (Tue, 16 Apr 2024) EllapsedTime: 13.5 seconds RetCode: 0 Status: OK PackageFile: KBoost_1.10.0.zip PackageFileSize: 582.4 KiB